Workbook
Name _Toc132619713: Paraiška!#REF!

Sheet Paraiška
A3: ŪKININKO PARAIŠKA
A4: =TODAY() -> 46051 | D4: =TODAY() -> 46051 | E4: =TODAY() -> 46051 | I4: =TODAY() -> 46051 | J4: =TODAY() -> 46051 | M4: =TODAY() -> 46051 | N4: =TODAY() -> 46051 | O4: =TODAY() -> 46051 | P4: =TODAY() -> 46051 | R4: =TODAY() -> 46051
A5: PAGRINDINIAI KLIENTO DUOMENYS
A6: Vardas, pavardė
A7: Asmens kodas | M7: Paso (asmens tapatybės kortelės) Nr.
A8: Gyvenamosios vietos adresas (miestas, gatvė, namo, buto numeris)
A9: Korespondencijos adresas (miestas, gatvė, namo, buto numeris)
A10: Telefono Nr. (su šalies kodu) | M10: El. paštas
A11: Ūkio adresas | M11: Ūkio kodas | P11: EDV
A12: Ūkio steigimo data | M12: PVM mokėtojo kodas
A13: KLIENTO FINANSININKAS
A14: Vardas, pavardė | I14: Telefono Nr. (su šalies kodu) | O14: El. paštas
A16: ŪKINĖ VEIKLA
A17: Augalininkystė | H17: Plotas,ha | J17: Gyvulininkystė | P17: Gyvulių skaičius, vnt.
B18: Grūdinių augalų ir rapsų auginimas (be ekologinio ūkio) | K18: Pienininkystė (nurodykite tik melžiamų karvių skaičių)
B19: Daržininkystė | K19: Galvijų mėsai auginimas
B20: Cukrinių runkelių auginimas | K20: Kiaulininkystė
B21: Sodininkystė | K21: Paukštininkystė
B22: Ekologinis ūkis | K22: Ekologinis ūkis
B23: Kita (įrašykite) | K23: Kita (įrašykite)
A24: PAGEIDAUJAMOS PASKOLOS SĄLYGOS
A25: Suma, Eur | M25: Terminas, mėn.
A26: Įmokos mokėjimo diena | F26: 5 | H26: 10 | J26: 15 | L26: 20 | N26: 25
A27: Paskirtis
A29: UŽTIKRINIMO PRIEMONĖ, KURIA BUS UŽTIKRINTAS PASKOLOS GRĄŽINIMAS | O29: Rinkos vertė, EUR
A30: Nekilnojamas turtas | F30: Gyvenamosios patalpos
F31: Negyvenamosios patalpos
F32: Žemės sklypas (-ai)
F33: Lizinguojamas turtas
F34: Kitas turtas
A35: Kilnojamas turtas | F35: Atsargos
F36: Įrengimai
F37: Lizinguojamas turtas
F38: Kitas turtas
A39: Garantija | F39: Garantija (akcininkų ir/ ar kitų asmenų)
F40: Laidavimas (akicininkų ir / ar kitų asmenų)
F41: Kita (ILTE garantijos ir kt.)
A42: KLIENTO ĮSIPAREIGOJIMAI KITOSE FINANSINĖSE INSTITUCIJOSE (paskolos, lizingas, laidavimai, garantijos ir kt.) (Paraiškos pildymo datai)
A43: Kreditorius | D43: Įsipareigojimų rūšis (paskola, lizingas,laidavimai,garantijos kt.) | G43: Suma EUR | J43: Negrąžintas likutis EUR | M43: Galutinis terminas | O43: Palūkanų norma | P43: Užtikrinimo priemonės (įkeitimas, laidavimas, garantija, kt.)
A48: TIESIOGINĖS IŠMOKOS IR KITA PARAMA
E49: Tiesioginės išmokos pagal pasėlių deklaraciją | O49: Kitos išmokos
A50: Už praėjusius metus
A51: Einamųjų metų prognozė
A52: INFORMACIJA APIE SAMDOMUS DARBUOTOJUS ŪKYJE
E53: Nuolatinių darbuotojų skaičius | L53: Sezoninių darbuotojų skaičius | P53: Vid.atlyginimas, EUR
A54: Už praėjusius metus
A55: Einamųjų metų prognozė
A56: PAGRINDINIAI TIEKĖJAI, PIRKĖJAI (ataskaitiniam laikotarpiui)
A57: Tiekėjai | E57: Suma, EUR | H57: % dalis apyvartoje | K57: Pirkėjai | O57: Suma, EUR | P57: % dalis apyvartoje
A62: PATEIKIAMI DOKUMENTAI
B63: Ūkininko registracijos pažymėjimas | L63: Žemės ir nekilnojamojo turto nuosavybę patvirtinantys dokumentai, sutartis (-ys)
B64: Ūkininko(-ės) ir sutuoktinės (-io) asmens dokumentai | L64: Pažymėjimai ir pažymos įkeitimui
B65: Finansinės ataskaitos metinės (balansas, pelno (nuostolių) ataskaita | L65: Turto draudimo dokumentai (visam kredito laikotarpiui)
B66: SODROS ir VMĮ pažymos apie ūkininko turimus įsiskolinimus | L66: Kreditorinio įsikolinimo iššifravimas
B67: Prekių/ paslaugų įsigijimo (pardavimo) sutartys | L67: Verslo planas
B68: Turto (numatomo įsigyti už kredito lėšas) pirkimo sutartys, komerciniai pasiūlymai | L68: Debitorinio įsiskolinimo iššifravimas
B69: Dokumentai, pagrindžiantys, kokiu pagrindu yra naudojamasi žeme (nuosavybės pažymėjimas (-ai), nuomos sutartis (-ys), pasėlių deklaracija | L69: Įkeičiamo turto apžiūrėjimo ir įvertinimo aktai bei pažymos apie turto rinkos vertės nustatymą
B70: Dokumentai, pagrindžiantys gaunamą ES/ valstybės paramą | L70: Ekonominės veiklos dydžio (EDV) pažyma
A71: TURTO DRAUDIMO PASIŪLYMAS
A72: Pageidauju gauti UADBB „Aon Baltic“, juridinio asmens kodas 110591289 (toliau - Draudimo partneris), turto draudimo pasiūlymą/ -us, siekiant apdrausti pagal finansavimo sutartį AB Artea bankui (toliau - Bankas) įkeičiamą turtą. Sutinku, kad Bankas perduotų mano asmens duomenis (vardą, pavardę, el. pašto adresą, telefono Nr.), Draudimo partneriui, kuris galėtų pateikti man turto draudimo pasiūlymą.
B73: Taip | D73: Ne
A74: Esu informuotas, kad: a) Draudimo partneriui man pateikus pasiūlymą, neprivalau juo naudotis ir turiu teisę sudaryti turto draudimo sutartį naudojantis kitų draudimo brokerių/ draudimo įmonių paslaugomis Bankui priimtinomis sąlygomis (jos skelbiamos www.artea.lt). b) Turiu teisę bet kada atšaukti duotą sutikimą, informuodamas Banką el. paštu duomenuapsauga@artea.lt ir, kad tai neturės jokios įtakos finansavimo paslaugos suteikimui ir / ar nesuteikimui arba sudarytos finansavimo sutarties sąlygoms, suprantu, kad iki sutikimo atšaukimo mano asmens duomenys tvarkomi šio sutikimo pagrindu. c) Šis sutikimas galioja 1 metus nuo sutikimo davimo dienos ir jame nurodyti mano asmens duomenys bus saugomi 10 metų nuo sutartinių santykių baigimo dienos.
A75: PATVIRTINIMAI IR ĮSIPAREIGOJIMAI
A76: a) Patvirtinu, kad turiu teisę pasirašyti šią paraišką, visa šioje paraiškoje pateikta informacija yra išsami ir teisinga ir įsipareigoju tuoj pat raštu informuoti Banką apie bet kokius pateiktos informacijos pasikeitimus. Esu informuotas, kad nepateikus visos paraiškoje nurodytos informacijos arba pateikus neteisingą ir neišsamią informaciją, Bankas turi teisę nesuteikti finansavimo paslaugos arba vienašališkai nutraukti šios paraiškos pagrindu sudarytą sutartį. Šios paraiškos priėmimas neįpareigoja Banko suteikti prašomą paslaugą ar suteikti ją prašomomis sąlygomis. b) Esu informuotas, kad Bankas tvarkys Kliento, taip pat kitų šioje paraiškoje nurodytų asmenų asmens duomenis, kaip nurodyta Artea banko grupės įmonių Lietuvoje privatumo politikoje (toliau - Privatumo politika), kuri skelbiama https://www.artea.lt/lt/apie/svarbus-dokumentai/privatumo-politika ir patvirtinu, kad su Privatumo politika susipažinau. Man pageidaujant Bankas pateiks popierinį Privatumo politikos egzempliorių. c) Patvirtinu, kad kitų asmenų asmens duomenys, pateikti Bankui, yra gauti teisėtai ir, kad informavau šiuos asmenis apie jų duomenų pateikimą Bankui bei jie tam neprieštaravo, buvo supažindinti su Banko atliekamu duomenų tvarkymu bei Privatumo politika. d) Esu informuotas, kad kreditingumo įvertinimo, kredito rizikos ir įsiskolinimo valdymo, paslaugos teikimo, pinigų plovimo ir terorizmo finansavimo prevencijos tikslais, teisinės prievolės bei sutarties vykdymo ar ketinimo sudaryti sutartį teisiniais pagrindais, Bankas pats tiesiogiai arba pasitelkęs duomenų tvarkytojus, turi teisę kreiptis į bet kurias privačias ir valstybines įmones, įstaigas, organizacijas (pvz. VĮ Registrų centrą, VĮ Regitra, Informatikos ir ryšių departamentą prie LR Vidaus reikalų ministerijos, Lietuvos banką, UAB Creditinfo Lietuva ir kt.) dėl informacijos gavimo. Taip pat esu informuotas, kad kreditingumo, įsipareigojimų vykdymo rizikos vertinimo, paslaugos teikimo, įsiskolinimo valdymo, Banko rizikos valdymo tikslais, teisinės prievolės pagrindu gaus ir perduos duomenis grupės įmonei UAB Artea lizingas. e) Patvirtinu, kad laikausi bei vykdau Europos Sąjungos ir Lietuvos Respublikos teisės aktų, reglamentuojančių, priklausomai nuo Kliento veiklos pobūdžio, veterinarijos, higienos, sanitarijos, maisto kokybės, aplinkosaugos, gyvūnų gerovės reikalavimų bei geros verslo ar ūkininkavimo praktikos reikalavimus. Patvirtinu, kad pateikti leidimai, licencijos ar kiti dokumentai, reikalingi veiklai vykdyti, yra galiojantys ir atitinka teisės aktų keliamus reikalavimus. f) Man yra žinoma, kokias tarptautines finansines, ekonomines ir kitokio ribojamojo pobūdžio sankcijas1 Bankas įgyvendina savo veikloje. Įsipareigoju neinicijuoti mokėjimo operacijų ir nesiekti gauti lėšų, tiesiogiai ar netiesiogiai susijusių su sankcionuotu asmeniu, šalimi ir/ar teritorija, prekėmis, ir/ar paslaugomis, kurioms taikomos tokios sankcijos.
I78: =+E6 -> 0 | P78: =TODAY() -> 46051
I79: vardas, pavardė, parašas | P79: paraiškos pildymo data
A80: 1 | B80: Informacija apie Banko įgyvendinamas finansines, ekonomines ir kitokio ribojamojo pobūdžio sankcijas skelbiama www.artea.lt.

Sheet Duomenys apie ūkį (A)
B2: DUOMENYS APIE ŪKĮ
B5: KLIENTAS
B7: Vardas Pavardė | K7: Ūkio kodas
B8: =Paraiška!E6 -> 0 | K8: =Paraiška!O11 -> 0
B10: Pastaba. Pilkai pažymėti laukai užpildomi / laukų reikšmės apskaičiuojamos automatiškai.
B12: 1. Duomenys apie žemės ūkio paskirties žemę
B13: Žemės ūkio paskirties žemės plotas | H13: Visas plotas (ha) | K13: Iš to skaičiaus
K14: nuosavybės teise valdoma žemė (ha) | N14: iš valstybės nuomojama žemė (ha) | Q14: iš privačių asmenų nuomojama žemė (ha)
B15: Žemės ūkio naudmenų plotas
B16: Ariama žemė
B17: Pievos ir ganyklos
B18: Sodai ir uogynai
B19: Miško plotas
B20: Kita žemė
B21: Iš viso | H21: =SUM(H15:J20) -> 0 | K21: =SUM(K15:M20) -> 0 | N21: =SUM(N15:P20) -> 0 | Q21: =SUM(Q15:S20) -> 0
B23: 2. Turimas gyvulių skaičius (vienetais)
B24: Pavadinimas | K24: 20__ m. | N24: 20__ m. | Q24: 20__ m.
B25: Melžiamos karvės
B26: Prieauglis
B27: Paršavedės (kuiliai)
B28: Penimos kiaulės
B29: Arkliai
B30: Paukščiai
B31: Kita
B33: 3. Turimas / Valdomas turtas
B34: Pastatai | G34: Įsigijimo metai | H34: Balansinė vertė (EUR) | L34: Žemės ūkio technika ir mechanizmai | P34: Įsigijimo metai | Q34: Balansinė vertė (EUR)
B41: 4. Išaugintas derlius ir jo pardavimas
B42: Auginama kultūra | E42: 20__ m. | J42: 20__ m. | O42: Ateinantys metai
E43: Pasėta (ha) | F43: Derlingumas (t/ha) | G43: Parduota (t) | H43: Vid. kaina (EUR / t) | I43: Pardavimo pajamos (EUR) | J43: Pasėta (ha) | K43: Derlingumas (t/ha) | L43: Parduota (t) | M43: Vid. kaina (EUR / t) | N43: Pardavimo pajamos (EUR) | O43: Pasėta (ha) | P43: Derlingumas (t/ha) | Q43: Parduota (t) | R43: Vid. kaina (EUR / t) | S43: Pardavimo pajamos (EUR)
B47: Iš viso | E47: =SUM(E44:E46) -> 0 | F47: - | G47: =SUM(G44:G46) -> 0 | H47: - | I47: =SUM(I44:I46) -> 0 | J47: =SUM(J44:J46) -> 0 | K47: - | L47: =SUM(L44:L46) -> 0 | M47: - | N47: =SUM(N44:N46) -> 0 | O47: =SUM(O44:O46) -> 0 | P47: - | Q47: =SUM(Q44:Q46) -> 0 | R47: - | S47: =SUM(S44:S46) -> 0
B49: 5. Pieno pardavimas
E50: 20__ m. | J50: 20__ m. | M50: =IF(H50="","",H50+1) | O50: Ateinantys metai | R50: =IF(M50="","",M50+1)
E51: Karvių skaič. | F51: Primelžta iš karvės (t) | G51: Parduota (t) | H51: Vid. kaina (EUR / t) | I51: Pardavimo pajamos (EUR) | J51: Karvių skaič. | K51: Primelžta iš karvės (t) | L51: Parduota (t) | M51: Vid. kaina (EUR / t) | N51: Pardavimo pajamos (EUR) | O51: Karvių skaič. | P51: Primelžta iš karvės (t) | Q51: Parduota (t) | R51: Vid. kaina (EUR / t) | S51: Pardavimo pajamos (EUR)
B52: Iš viso
B54: 6. Gyvuliai / paukščiai ir jų pardavimas
B55: Gyvulių / paukščių rūšis | E55: 20__ m. | J55: 20__ m. | M55: =IF(H55="","",H55+1) | O55: Ateinantys metai | R55: =IF(M55="","",M55+1)
E56: Turimų gyvulių skaič. | F56: Parduota (vnt.) | G56: Vidutinė kaina (EUR / 100 kg) | I56: Pardavimo pajamos (EUR) | J56: Turimų gyvulių skaič. | K56: Parduota (vnt.) | L56: Vidutinė kaina (EUR / 100 kg) | N56: Pardavimo pajamos (EUR) | O56: Turimų gyvulių skaič. | P56: Parduota (vnt.) | Q56: Vidutinė kaina (EUR / 100 kg) | S56: Pardavimo pajamos (EUR)
B60: Iš viso | E60: - | F60: - | G60: - | I60: =SUM(I57:I59) -> 0 | J60: - | K60: - | L60: - | N60: =SUM(N57:N59) -> 0 | O60: - | P60: - | Q60: - | S60: =SUM(S57:S59) -> 0
B62: 7. Kita gamyba ir pardavimas
B63: Gamybos rūšis | E63: 20__ m. | J63: 20__ m. | M63: =IF(H63="","",H63+1) | O63: Ateinantys metai | R63: =IF(M63="","",M63+1)
E64: Pagaminta produktų (t) | G64: Parduota (t) | H64: Kaina (EUR / t) | I64: Pardavimo pajamos (EUR) | J64: Pagaminta produktų (t) | L64: Parduota (t) | M64: Kaina (EUR / t) | N64: Pardavimo pajamos (EUR) | O64: Pagaminta produktų (t) | Q64: Parduota (t) | R64: Kaina (EUR / t) | S64: Pardavimo pajamos (EUR)
B68: Iš viso | E68: 0 | G68: 0 | H68: - | I68: 0 | J68: 0 | L68: 0 | M68: - | N68: 0 | O68: 0 | Q68: 0 | R68: - | S68: 0
G71: =Paraiška!E6 -> 0 | P71: Parašas
B73: KLIENTAS | P73: Data | Q73: =TODAY() -> 46051
G74: (vardas ir pavardė)

Sheet Apskaitos detalizavimas (B)
B2: ŪKININKO APSKAITOS DETALIZAVIMAS IR PROGNOZĖS
B3: pildoma pagal Piniginių įplaukų ir išlaidų žiniaraštį
B5: KLIENTAS
B7: Vardas Pavardė | H7: Ūkio kodas
B8: =Paraiška!E6 -> 0 | H8: =Paraiška!O11 -> 0
B10: PVM mokėtojas
B11: Pastaba. Einamieji metai pateikiami prognozuojant duomenis tų metų pabaigai; prognozės pateikiamos metais visam kredito naudojimosi laikotarpiui. Pilkai pažymėti laukai nepildomi.
B13: Rodikliai | F13: .......m. | G13: .......m. | H13: .......m. | I13: .......m. | J13: .......m. | K13: .......m. | L13: .......m.
B15: 1. Pirkimai | F15: =SUM(F16:F17) -> 0 | G15: =SUM(G16:G17) -> 0 | H15: =SUM(H16:H17) -> 0 | I15: =SUM(I16:I17) -> 0 | J15: =SUM(J16:J17) -> 0 | K15: =SUM(K16:K17) -> 0 | L15: =SUM(L16:L17) -> 0
B16: 1.1. pirkimo vertė be PVM
B17: 1.2. PVM suma
B18: 2. Pardavimai | F18: =SUM(F19:F20) -> 0 | G18: =SUM(G19:G20) -> 0 | H18: =SUM(H19:H20) -> 0 | I18: =SUM(I19:I20) -> 0 | J18: =SUM(J19:J20) -> 0 | K18: =SUM(K19:K20) -> 0 | L18: =SUM(L19:L20) -> 0
B19: 2.1. pardavimo vertė be PVM
B20: 2.2. PVM suma
B21: 3. Pajamos | F21: =SUM(F22:F29) -> 0 | G21: =SUM(G22:G29) -> 0 | H21: =SUM(H22:H29) -> 0 | I21: =SUM(I22:I29) -> 0 | J21: =SUM(J22:J29) -> 0 | K21: =SUM(K22:K29) -> 0 | L21: =SUM(L22:L29) -> 0
B22: 3.1. iš augalininkystės
B23: 3.2. iš gyvulininkystės
B24: 3.3. iš miško
B25: 3.4. iš vidaus vandenų
B26: 3.5. iš savo produkcijos perdirbimo
B27: 3.6. iš paslaugų žemės ūkiui
B28: 3.7. iš ne žemės ūkio veiklos
B29: 3.8. tiesioginės išmokos
B30: 4. Išlaidos | F30: =SUM(F31:F51) -> 0 | G30: =SUM(G31:G51) -> 0 | H30: =SUM(H31:H51) -> 0 | I30: =SUM(I31:I51) -> 0 | J30: =SUM(J31:J51) -> 0 | K30: =SUM(K31:K51) -> 0 | L30: =SUM(L31:L51) -> 0
B31: 4.1. sėklai ir sodmenims
B32: 4.2. trąšoms ir kalkėms
B33: 4.3. augalų apsaugos priemonėms
B34: 4.4. pašarams
B35: 4.5. gyvuliams pirkti
B36: 4.6. gyvulių gydymui
B37: 4.7. kurui ir tepalams
B38: 4.8. elektros energijai
B39: 4.9. atsarginėms dalims
B40: 4.10. mažaverčiams daiktams pirkti
B41: 4.11. gamybinėms paslaugoms apmokėti
B42: 4.12. lengvajam transportui išlaikyti
... B51: 4.21. įsipareigojimai finansinėms institucijoms
B52: 5. Įplaukų ir išlaidų skirtumas | F52: =SUM(F30-F21) -> 0 | G52: =SUM(G30-G21) -> 0 | H52: =SUM(H30-H21) -> 0 | I52: =SUM(I30-I21) -> 0 | J52: =SUM(J30-J21) -> 0 | K52: =SUM(K30-K21) -> 0 | L52: =SUM(L30-L21) -> 0
B53: 6. Ūkininko ir jo narių įmokos
B54: 7. Pinigų išmokėjimas ūkininkui ir jo partneriams
B56: KLIENTAS | E56: =B8 -> 0 | J56: Parašas
J57: Data | K57: =TODAY() -> 46051
E58: (vardas ir pavardė)
