Workbook

Sheet Paraiška
B1: =Q76 -> 46051
B2: KLIENTO DUOMENYS
B3: Pavadinimas | N3: Telefono Nr. (su šalies kodu)
B4: Juridinio asmens kodas | N4: El. paštas
B5: PVM mokėtojo kodas | N5: Įmonės/veiklos registracijos adresas (miestas,gatvė, namo, buto numeris, pašto kodas)
B6: Faktinės veiklos vykdymo adresas (miestas, gatvė, namo, buto numeris, pašto kodas)
B7: KLIENTO VEIKLA
B8: Dukterinės įmonės, susijusios įmonės
B11: Vykdoma veikla
B14: Produkcijos arba paslaugų dalis apyvartoje, proc.
B17: Pasirašytos sutartys, prekybos (paslaugų) tinklas
B20: Rinka ir konkurentai
B23: ĮMONĖS VADOVAS
B24: Pareigos, vardas, pavardė | J24: Asmens kodas | O24: Telefono Nr. (su šalies kodu) | Q24: El. paštas
B26: ĮMONĖS VYR. FINANSININKAS
B27: Pareigos, vardas, pavardė | O27: Telefono Nr. (su šalies kodu) | Q27: El. paštas
B29: KITI KONTAKTINIAI ASMENYS
B30: Pareigos, vardas, pavardė | O30: Telefono Nr. (su šalies kodu) | Q30: El. paštas
B33: PAGEIDAUJAMOS PASKOLOS SĄLYGOS
B34: Suma, Eur | O34: Kredito terminas, mėn.
B35: Mokėjimo diena | F35: 5 | H35: 10 | J35: 15 | L35: 20 | N35: 25
B36: Paskirtis
B38: SIŪLOMOS PASKOLOS UŽTIKRINIMO PRIEMONĖS
B39: Nekilnojamas turtas | F39: gyvenamosios patalpos
F44: negyvenamosios patalpos
F51: žemės sklypas (-ai)
B58: Kilnojamas turtas | F58: atsargos
F59: įrengimai
F60: kitas turtas
B61: Garantijos | F61: laidavimas (akcininkų ir/arba kitų asmenų)
F62: kita garantija (ILTE ar kt.)
B63: PATEIKIAMI DOKUMENTAI
C64: Išplėstinis Juridinių asmenų registro išrašas, ne senesnis kaip 3 mėn. | O64: Finansinės ataskaitos
C65: Įstatai | O65: Finansinių ataskaitų detalizavimas
C66: Vadovo paskyrimo dokumentas | O66: Turto vertinimas
C67: Vadovo asmens tapatybės dokumento kopija | O67: Įkeičiamo turto draudimas
C68: Verslo planas | O68: Kita
C69: Veiklos leidimai, licencijos ir kt.
B70: TURTO DRAUDIMO PASIŪLYMAS
B71: Pageidauju gauti UADBB „Aon Baltic“, juridinio asmens kodas 110591289 (toliau - Draudimo partneris), turto draudimo pasiūlymą/ -us, siekiant apdrausti pagal finansavimo sutartį AB Artea bankui (toliau - Bankas) įkeičiamą turtą. Sutinku, kad Bankas perduotų mano asmens duomenis (vardą, pavardę, el. pašto adresą, telefono Nr.), Draudimo partneriui, kuris galėtų pateikti man turto draudimo pasiūlymą.
...

Sheet Akcininkai
C4: AKCININKŲ SĄRAŠAS
C6: Pavadinimas | G6: =Paraiška!E3 -> 0
C7: Juridinio asmens kodas | G7: =Paraiška!E4 -> 0
C8: Įmonės/veiklos registracijos adresas | G8: =Paraiška!P5 -> 0
C11: Vardas, pavardė (juridinio asmens pavadinimas) | H11: Asmens kodas (juridinio asmens kodas) | J11: Buveinės adresas | P11: Akcijų dalis (proc.) | Q11: Kitos įmonės, kuriose turima daugiau 5 proc. akcijų, pavadinimai ir akcijų dalis (proc.)
C12: Įmonės administracija (valdyba)
C20: Penki didžiausi akcininkai
C33: Pateikta informacija yra tiksli.
C35: Įmonės vadovas | G35: =Paraiška!B25 -> 0 | H35: =[1]Paraiška!I32 -> 0 | I35: =[1]Paraiška!J32 -> 0 | J35: =[1]Paraiška!K32 -> 0 | K35: =[1]Paraiška!M32 -> 0 | L35: =[1]Paraiška!R32 -> 0 | M35: =[1]Paraiška!S32 -> 0 | P35: =TODAY() -> 46051
P36: data
C38: Vyriausias finansininkas | G38: =Paraiška!B28 -> 0 | H38: =[1]Paraiška!E34 -> 0 | I38: =[1]Paraiška!J34 -> 0 | J38: =[1]Paraiška!K34 -> 0 | K38: =[1]Paraiška!M34 -> 0 | L38: =[1]Paraiška!R34 -> 0 | M38: =[1]Paraiška!S34 -> 0

Sheet Duomenys apie ŽŪĮ
B2: DUOMENYS APIE ŪKĮ
B5: Pavadinimas | G5: =Paraiška!E3 -> 0
B6: Įmonės kodas | G6: =Paraiška!E4 -> 0
B7: Įmonės/veiklos registracijos adresas | G7: =Paraiška!P5 -> 0
B8: Data | E8: =TODAY() -> 46051 | F8: =TODAY() -> 46051 | G8: =TODAY() -> 46051
B11: Tiesioginės išmokos ir kita parama
B12: Pavadinimas | K12: 20__ m. | N12: 20__ m. | Q12: 20__ m. (prognozė)
B13: Tiesioginės išmokos pagal pasėlių deklaraciją
B14: Kitos išmokos
B15: Iš viso | K15: =SUM(K13:M14) -> 0 | N15: =SUM(N13:P14) -> 0 | Q15: =SUM(Q13:S14) -> 0
B17: Informacija apie samdomus darbuotojus ūkyje
G18: Nuolatinių darbuotojų skaičius | K18: Sezoninių darbuotojų skaičius | P18: Vid. Atyginimas, EUR
B19: Už praėjusius metus
B20: Einamųjų metų prognozė
B22: 1. Duomenys apie žemės ūkio paskirties žemę
B23: Žemės ūkio paskirties žemės plotas | H23: Visas plotas (ha) | K23: Iš to skaičiaus
K24: nuosavybės teise valdoma žemė (ha) | N24: iš valstybės nuomojama žemė (ha) | Q24: iš privačių asmenų nuomojama žemė (ha)
B25: Žemės ūkio naudmenų plotas
B26: Ariama žemė
B27: Pievos ir ganyklos
B28: Sodai ir uogynai
B29: Miško plotas
B30: Kita žemė
B31: Iš viso | H31: =SUM(H25:J30) -> 0 | K31: =SUM(K25:M30) -> 0 | N31: =SUM(N25:P30) -> 0 | Q31: =SUM(Q25:S30) -> 0
B33: 2. Turimas gyvulių skaičius (vienetais)
B34: Pavadinimas | K34: 20__ m. | N34: 20__ m. | Q34: 20__ m. (prognozė)
B35: Melžiamos karvės
B36: Prieauglis
B37: Paršavedės (kuiliai)
B38: Penimos kiaulės
B39: Arkliai
B40: Paukščiai
B41: Kita
B43: 3. Turimas / Valdomas turtas
B44: Pastatai | G44: Įsigijimo metai | H44: Balansinė vertė (EUR) | L44: Žemės ūkio technika ir mechanizmai | P44: Įsigijimo metai | Q44: Balansinė vertė (EUR)
B80: 4. Išaugintas derlius ir jo pardavimas
B81: Auginama kultūra | E81: 2014 m. | G81: 20__ m. | J81: 20__ m. | O81: 20__ m. (prognozė)
E82: Pasėta (ha) | F82: Derlingumas (t/ha) | G82: Parduota (t) | H82: Vid. kaina (EUR / t) | I82: Pardavimo pajamos (EUR) | J82: Pasėta (ha) | K82: Derlingumas (t/ha) | L82: Parduota (t) | M82: Vid. kaina (EUR / t) | N82: Pardavimo pajamos (EUR) | O82: Pasėta (ha) | P82: Derlingumas (t/ha) | Q82: Parduota (t) | R82: Vid. kaina (EUR / t) | S82: Pardavimo pajamos (EUR)
B128: Iš viso | E128: 0 | F128: - | G128: =SUM(G83:G127) -> 0 | H128: - | I128: =SUM(I83:I127) -> 0 | J128: =SUM(J83:J127) -> 0 | K128: - | L128: =SUM(L83:L127) -> 0 | M128: - | N128: =SUM(N83:N127) -> 0 | O128: =SUM(O83:O127) -> 0 | P128: - | Q128: =SUM(Q83:Q127) -> 0 | R128: - | S128: =SUM(S83:S127) -> 0
B130: 5. Pieno pardavimas
...

Sheet Finansiniai įsipareigojimai
B5: ĮMONĖS FINANSINIAI ĮSIPAREIGOJIMAI KITIEMS KREDITORIAMS
B7: Pavadinimas | C7: =Paraiška!E3 -> 0
B8: Juridinio asmens kodas | C8: =Paraiška!E4 -> 0
B9: Įmonės veiklos/registracijos adresas | C9: =Paraiška!P5 -> 0
B12: Įmonės įsipareigojimai kitiems bankams ir/ar asmenims*
B13: Kreditoriaus pavadinimas | C13: Kredito tipas** | D13: Sutarties data | E13: Skolos likutis (limitas), Eur | F13: Palūkanos, % | G13: Grąžinimo data | H13: Vidutinė grąžinama suma su palūkanomis per mėn., Eur | I13: Užstatas ir/ar kitos užtikrinimo priemonės
D21: Iš viso: | E21: =SUM(E14:E20) -> 0 | H21: =SUM(H14:H20) -> 0
B22: *Įsipareigojimai nurodomi pateikiamų finansinių ataskaitų datai
B23: **Kreditas, kredito linija, sąskaitos kreditas, lizingas, ar pan.
B26: Komentarai
G28: =TODAY() -> 46051
B29: Įmonės vadovas | C29: =Paraiška!B25 -> 0 | G29: Data
B32: Vyriausias finansininkas | C32: =Paraiška!B28 -> 0

Sheet Turtas
B3: Pavadinimas | M3: =Paraiška!E3 -> 0 | AD3: Juridinio asmens kodas | AK3: =Paraiška!E4 -> 0
B4: Įmonės veiklos/registracijos adresas | M4: =Paraiška!P5 -> 0 | AD4: Data
AK5: pateikiamų finansinių ataskaitų data
BB7: (eurais)
B8: ĮMONĖS ANGLIES DVIDEGINIO (CO2) PĖDSAKAS*
T9: Ataskaitiniai metai | Z9: Lygis
Z10: 1 | AG10: 2 | AN10: 3
B11: CO2 kiekis tonomis per metus
B13: *PILDYMO TAISYKLĖS:
B14: Tuo atveju, jeigu skaičiuojate įmonės metinės anglies dvideginio (CO2) emisijos dydį, prašome lentelėje aukščiau pateikite apskaičiuotą CO2 emisijos dydį paskutiniais metais, už kuriuos esate atlikę emisijos skaičiavimą, ir įrašykite metus, už kuriuos emisija buvo apskaičiuota.
B15: I lygio emisijos – tiesioginės emisijos, atsiradusios įmonės teritorijoje arba jai priklausančiuose įrenginiuose dėl energijos gamybos ar kitos veiklos, susijusios su kuro deginimu.
B16: II lygio emisijos – netiesioginės emisijos iš energijos, kuri buvo pagaminta už įmonės ribų, vartojimo.
B17: III lygio emisijos - netiesioginės emisijos, atsirandančios už įmonės ribų, bet susijusios su jos veikla.
B19: ILGALAIKIO TURTO NUSIDĖVĖJIMO (AMORTIZACIJOS) SĄNAUDOS*
T20: Metai | Z20: I ketv. | AG20: II ketv. | AN20: III ketv. | AU20: IV ketv. | BB20: Iš viso:
B21: Nusidėvėjimas (amortizacija) | K21: Ataskaitiniai metai | T21: =IFERROR(IFERROR(IF(ISBLANK(AK4),"",YEAR(AK4)),YEAR(DATE(LEFT(AK4,4),MID(AK4,FIND(".",AK4)+1,2),RIGHT(AK4,2)))),YEAR(DATE(LEFT(AK4,4),MID(AK4,FIND(" ",AK4)+1,2),RIGHT(AK4,2)))) | BB21: =SUM(Z21:BA21) -> 0
K22: Praėję metai | T22: =IFERROR(IFERROR(IF(ISBLANK(AK4),"",YEAR(AK4)-1),YEAR(DATE(LEFT(AK4,4),MID(AK4,FIND(".",AK4)+1,2),RIGHT(AK4,2)))-1),YEAR(DATE(LEFT(AK4,4),MID(AK4,FIND(" ",AK4)+1,2),RIGHT(AK4,2)))-1) | BB22: =SUM(Z22:BA22) -> 0
K23: Užpraėję metai | T23: =IFERROR(IFERROR(IF(ISBLANK(AK4),"",YEAR(AK4)-2),YEAR(DATE(LEFT(AK4,4),MID(AK4,FIND(".",AK4)+1,2),RIGHT(AK4,2)))-2),YEAR(DATE(LEFT(AK4,4),MID(AK4,FIND(" ",AK4)+1,2),RIGHT(AK4,2)))-2) | BB23: =SUM(Z23:BA23) -> 0
B24: * Nurodomos tik tos nusidėvėjimo (amortizacijos) sąnaudos, kurio buvo apskaitytos pelno (nuostolių) ataskaitoje
B26: ILGALAIKIS TURTAS
B27: Ilgalaikis nematerialusis ir materialusis turtas
B28: Pavadinimas | Y28: Įsigijimo data | AG28: Įsigijimo vertė | AO28: Likutinė vertė
B29: Nematerialusis turtas | AG29: =SUM(AG30:AN36) -> 0 | AO29: =SUM(AO30:AV36) -> 0
B37: Materialusis turtas: | AG37: =SUM(AG38:AN62) -> 0 | AO37: =SUM(AO38:AV62) -> 0
B63: Iš viso: | AG63: =+AG29+AG37 -> 0 | AO63: =+AO29+AO37 -> 0
B65: Ilgalaikis finansinis turtas
B66: Pavadinimas | Y66: Visa suma | AG66: Pastabos (dalis kapitale, skolos atsiradimo ir grąžinimo data ir kt.)
B67: Finansinis turtas (be po vienerių metų gautinų sumų): | Y67: =SUM(Y68:AF81) -> 0
B82: Po vienerių metų gautinos sumos: | Y82: =SUM(Y83:AF100) -> 0
B101: Iš viso: | Y101: =+Y67+Y82 -> 0
B103: Kitas ilgalaikis turtas
B104: Pavadinimas | Y104: Visa suma
B114: Iš viso: | Y114: =SUM(Y105:AF113) -> 0
B116: TRUMPALAIKIS TURTAS
B117: Atsargos (išskyrus sumokėtus avansus)
B118: Pavadinimas | S118: Visa suma | Y118: Iš jų įsigyta (pagaminta) prieš
Y119: <1 metus | AE119: 1-3 metų | AK119: >3 metus
B152: Iš viso: | S152: =SUM(S120:X151) -> 0 | Y152: =SUM(Y120:AD151) -> 0 | AE152: =SUM(AE120:AJ151) -> 0 | AK152: =SUM(AK120:AP151) -> 0
B154: Sumokėti avansai
B155: Pavadinimas | S155: Visa suma | Y155: Iš jų sumokėta prieš
...

Sheet Nuosavybė_Įsipareigojimai
B3: Pavadinimas | M3: =Paraiška!E3 -> 0 | AD3: Juridinio asmens kodas | AK3: =Paraiška!E4 -> 0
B4: Įmonės veiklos/registracijos adresas | M4: =Paraiška!P5 -> 0 | AD4: Data
AK5: pateikiamų finansinių ataskaitų data
BB7: (eurais)
B8: BŪSIMI PASKOLŲ GRĄŽINIMAI*
T9: Metai | Z9: I ketv. | AG9: II ketv. | AN9: III ketv. | AU9: IV ketv. | BB9: Iš viso:
B10: Grąžintina paskolos dalis | N10: Einamieji metai | T10: =IFERROR(IFERROR(IF(AK4="","",YEAR(AK4)),YEAR(DATE(LEFT(AK4,4),MID(AK4,FIND(".",AK4)+1,2),RIGHT(AK4,2)))),YEAR(DATE(LEFT(AK4,4),MID(AK4,FIND(" ",AK4)+1,2),RIGHT(AK4,2)))) | BB10: =SUM(Z10:BA10) -> 0
B11: Mokėtinos palūkanos | BB11: =SUM(Z11:BA11) -> 0
BB12: =+BB10+BB11 -> 0
B13: Grąžintina paskolos dalis | N13: Ateinantys metai | T13: =IFERROR(IFERROR(IF(AK4="","",YEAR(AK4)+1),YEAR(DATE(LEFT(AK4,4),MID(AK4,FIND(".",AK4)+1,2),RIGHT(AK4,2)))+1),YEAR(DATE(LEFT(AK4,4),MID(AK4,FIND(" ",AK4)+1,2),RIGHT(AK4,2)))+1) | BB13: =SUM(Z13:BA13) -> 0
B14: Mokėtinos palūkanos | BB14: =SUM(Z14:BA14) -> 0
BB15: =+BB13+BB14 -> 0
B17: *PILDYMO TAISYKLĖS:
B18: 1) Užpildykite informaciją apie būsimus paskolų (kreditų, lizingo) ir palūkanų mokėjimus kitiems kreditoriams, išskyrus AB Artea bankui, t.y. kitoms kredito įstaigoms, fiziniams ir / ar juridiniams asmenims ir kt., pagal paskutinius galiojančius mokėjimo grafikus.
B19: 2) Informacija pildoma apie mokėjimus, kurie turės būti atlikti per artimiausius 4 ketvirčius nuo ataskaitinio laikotarpio pabaigos, t.y., jeigu pateikiate 2021-03-31 finansines ataskaitas, užpildykite informaciją apie paskolų / palūkanų mokėjimus per 2021 m. II, III ir IV ketv., bei 2022 m. I ketv.
B21: ĮSIPAREIGOJIMAI
B22: Po vienerių metų mokėtinos sumos ir kiti ilgalaikiai įsipareigojimai
B23: Pavadinimas | Y23: Visa suma | AG23: Apmokėjimo terminas | AO23: Patabos
B24: Finansinės skolos: | Y24: =SUM(Y25:AF57) -> 0
B58: Gauti avansai: | Y58: =SUM(Y59:AF70) -> 0
B71: Skolos tiekėjams: | Y71: =SUM(Y72:AF93) -> 0
B94: Įmonių grupės ir asocijuotosioms įmonėms mokėtinos sumos: | D94: Įmonių grupės ir asocijuotosioms įmonėms mokėtinos sumos | Y94: =SUM(Y95:AF107) -> 0
B108: Kitos mokėtinos sumos: | Y108: =SUM(Y109:AF122) -> 0
B123: Iš viso: | Y123: =+Y24+Y58+Y71+Y94+Y108 -> 0
B125: Dotacijos, subsidijo ir atidėjiniai:
B126: Pavadinimas | Y126: Visa suma | AG126: Pastabos (dotacijos ar subsidijos davėjas, remiamas projektas ir kt.)
B132: Iš viso: | Y132: =SUM(Y127:AF131) -> 0
B134: Per vienerius metus mokėtinos sumos ir kiti trumpalaikiai įsipareigojimai
B135: Pavadinimas | Y135: Visa suma | AE135: Apmokėjimo terminas nesuėjo | AK135: Apmokėti vėluojama
AK136: nuo 1 iki 30 d. | AQ136: nuo 31 iki 90 d. | AW136: nuo 91 iki 180 d. | BC136: daugiau kaip 180 d.
B137: Finansinės skolos: | Y137: =SUM(Y138:AD151) -> 0 | AE137: =SUM(AE138:AJ151) -> 0 | AK137: =SUM(AK138:AP151) -> 0 | AQ137: =SUM(AQ138:AV151) -> 0 | AW137: =SUM(AW138:BB151) -> 0 | BC137: =SUM(BC138:BH151) -> 0
B152: Gauti avansai: | Y152: =SUM(Y153:AD170) -> 0 | AE152: =SUM(AE153:AJ170) -> 0 | AK152: =SUM(AK153:AP170) -> 0 | AQ152: =SUM(AQ153:AV170) -> 0 | AW152: =SUM(AW153:BB170) -> 0 | BC152: =SUM(BC153:BH170) -> 0
B171: Skolos tiekėjams: | Y171: =SUM(Y172:AD264) -> 0 | AE171: =SUM(AE172:AJ264) -> 0 | AK171: =SUM(AK172:AP264) -> 0 | AQ171: =SUM(AQ172:AV264) -> 0 | AW171: =SUM(AW172:BB264) -> 0 | BC171: =SUM(BC172:BH264) -> 0
B265: Įmonių grupės ir asocijuotosioms įmonėms mokėtinos sumos: | Y265: =SUM(Y266:AD278) -> 0 | AE265: =SUM(AE266:AJ278) -> 0 | AK265: =SUM(AK266:AP278) -> 0 | AQ265: =SUM(AQ266:AV278) -> 0 | AW265: =SUM(AW266:BB278) -> 0 | BC265: =SUM(BC266:BH278) -> 0
B279: Pelno mokesčio įsipareigojimai: | Y279: =SUM(Y280:AD287) -> 0 | AE279: =SUM(AE280:AJ287) -> 0 | AK279: =SUM(AK280:AP287) -> 0 | AQ279: =SUM(AQ280:AV287) -> 0 | AW279: =SUM(AW280:BB287) -> 0 | BC279: =SUM(BC280:BH287) -> 0
B288: Su darbo santykiais susiję įsipareigojimai: | Y288: =SUM(Y289:AD296) -> 0 | AE288: =SUM(AE289:AJ296) -> 0 | AK288: =SUM(AK289:AP296) -> 0 | AQ288: =SUM(AQ289:AV296) -> 0 | AW288: =SUM(AW289:BB296) -> 0 | BC288: =SUM(BC289:BH296) -> 0
B297: Kitos mokėtinos sumos: | Y297: =SUM(Y298:AD311) -> 0 | AE297: =SUM(AE298:AJ311) -> 0 | AK297: =SUM(AK298:AP311) -> 0 | AQ297: =SUM(AQ298:AV311) -> 0 | AW297: =SUM(AW298:BB311) -> 0 | BC297: =SUM(BC298:BH311) -> 0
B312: Iš viso: | Y312: =+Y137+Y152+Y171+Y265+Y279+Y288+Y297 -> 0 | AE312: =+AE137+AE152+AE171+AE265+AE279+AE288+AE297 -> 0 | AK312: =+AK137+AK152+AK171+AK265+AK279+AK288+AK297 -> 0 | AQ312: =+AQ137+AQ152+AQ171+AQ265+AQ279+AQ288+AQ297 -> 0 | AW312: =+AW137+AW152+AW171+AW265+AW279+AW288+AW297 -> 0 | BC312: =+BC137+BC152+BC171+BC265+BC279+BC288+BC297 -> 0
B314: Sukauptos sąnaudos ir ateinančių laikotarpių pajamos:
B315: Pavadinimas | Y315: Visa suma
...
